BEGIN:VCALENDAR
VERSION:2.0
PRODID:-//Institute for Teaching, Innovation, &amp; Inclusive Pedagogy - ECPv6.7.0//NONSGML v1.0//EN
CALSCALE:GREGORIAN
METHOD:PUBLISH
X-ORIGINAL-URL:https://teaching.rutgers.edu
X-WR-CALDESC:Events for Institute for Teaching, Innovation, &amp; Inclusive Pedagogy
REFRESH-INTERVAL;VALUE=DURATION:PT1H
X-Robots-Tag:noindex
X-PUBLISHED-TTL:PT1H
BEGIN:VTIMEZONE
TZID:UTC
BEGIN:STANDARD
TZOFFSETFROM:+0000
TZOFFSETTO:+0000
TZNAME:UTC
DTSTART:20240101T000000
END:STANDARD
END:VTIMEZONE
BEGIN:VEVENT
DTSTART;TZID=UTC:20240814T100000
DTEND;TZID=UTC:20240814T120000
DTSTAMP:20260418T133207
CREATED:20240709T171230Z
LAST-MODIFIED:20240709T175350Z
UID:686-1723629600-1723636800@teaching.rutgers.edu
SUMMARY:Feedback Session: GenAI Assignment Design Charrette (virtual)
DESCRIPTION:Hear various ways to consider GenAI in assignment design\, learn how colleagues are considering GenAI in their assignments\, and obtain feedback during this interactive session. All participants are asked to bring one assignment for which they would like feedback. Deadline to register via the link below is August 9th.  \nThis session is part of the Teaching and Generative AI Series launched by the Institute for Teaching\, Innovation\, and Inclusive Pedagogy (TIIP) to support Rutgers University – New Brunswick instructors in preparing their courses for the upcoming semester in the rapidly changing generative AI landscape. Sessions are designed for instructors across all appointment types\, ranks\, and disciplines.
URL:https://teaching.rutgers.edu/event/feedback-session-genai-assignment-design-charette-virtual/
ATTACH;FMTTYPE=image/jpeg:https://sites.rutgers.edu/itiip/wp-content/uploads/sites/1243/2024/07/artificial-intelligence-3706562_1280-e1720614470390.jpg
END:VEVENT
END:VCALENDAR