BEGIN:VCALENDAR
VERSION:2.0
PRODID:-//Institute for Teaching, Innovation, &amp; Inclusive Pedagogy - ECPv6.7.0//NONSGML v1.0//EN
CALSCALE:GREGORIAN
METHOD:PUBLISH
X-ORIGINAL-URL:https://teaching.rutgers.edu
X-WR-CALDESC:Events for Institute for Teaching, Innovation, &amp; Inclusive Pedagogy
REFRESH-INTERVAL;VALUE=DURATION:PT1H
X-Robots-Tag:noindex
X-PUBLISHED-TTL:PT1H
BEGIN:VTIMEZONE
TZID:UTC
BEGIN:STANDARD
TZOFFSETFROM:+0000
TZOFFSETTO:+0000
TZNAME:UTC
DTSTART:20250101T000000
END:STANDARD
END:VTIMEZONE
BEGIN:VEVENT
DTSTART;TZID=UTC:20250327T130000
DTEND;TZID=UTC:20250327T143000
DTSTAMP:20260421T130737
CREATED:20250218T185745Z
LAST-MODIFIED:20250305T204859Z
UID:2337-1743080400-1743085800@teaching.rutgers.edu
SUMMARY:Open Educational Resources: Essential Tools of Inclusivity and Equity
DESCRIPTION:For many students\, the cost of textbooks can be prohibitive. One way textbook costs can be minimized is through the adoption of freely-available Open Educational Resources (OERs). The Rutgers Libraries Open and Affordable Textbook program (OAT) awards research funds to Rutgers faculty who make their courses more affordable for students by using open educational resources (OER)\, library content\, or other types of low-cost materials. This program will provide an overview of the growth of OERs\, and the ways in which the Rutgers Libraries’ OAT program enhances inclusivity and equity for students in the crucial area of coursework materials.This workshop will be facilitated by University Libraries as part of University Equity and Inclusion’s Classroom Inclusivity Series (Fulfills Competency 3). \nREGISTER \n 
URL:https://teaching.rutgers.edu/event/open-educational-resources-essential-tools-of-inclusivity-and-equity/
CATEGORIES:Workshop
END:VEVENT
END:VCALENDAR