BEGIN:VCALENDAR
VERSION:2.0
PRODID:-//Institute for Teaching, Innovation, &amp; Inclusive Pedagogy - ECPv6.7.0//NONSGML v1.0//EN
CALSCALE:GREGORIAN
METHOD:PUBLISH
X-ORIGINAL-URL:https://teaching.rutgers.edu
X-WR-CALDESC:Events for Institute for Teaching, Innovation, &amp; Inclusive Pedagogy
REFRESH-INTERVAL;VALUE=DURATION:PT1H
X-Robots-Tag:noindex
X-PUBLISHED-TTL:PT1H
BEGIN:VTIMEZONE
TZID:UTC
BEGIN:STANDARD
TZOFFSETFROM:+0000
TZOFFSETTO:+0000
TZNAME:UTC
DTSTART:20250101T000000
END:STANDARD
END:VTIMEZONE
BEGIN:VEVENT
DTSTART;VALUE=DATE:20250505
DTEND;VALUE=DATE:20250520
DTSTAMP:20260425T125117
CREATED:20250429T154146Z
LAST-MODIFIED:20250429T154146Z
UID:2746-1746403200-1747699199@teaching.rutgers.edu
SUMMARY:Introduction to Learning Analytics May Cohort
DESCRIPTION:This series of sessions will be offered by the Office Teaching Evaluation and Assessment Research: \nThe Introduction to Learning Analytics for Instructors is an asynchronous learning opportunity to support instructors in starting to build their capacity around learning analytics. Topics include defining learning analytics\, ethical considerations\, limitations\, the impact of course design\, and an introduction to New Analytics in Canvas. A digital badge can be earned through the completion of all module activities and assignments. The program is open to all Rutgers faculty and instructional staff at no cost. \nSome activities are designed to provide opportunities for discussion with colleagues\, and therefore\, the module will be run in two-week cohorts\, once per month. \nREGISTER
URL:https://teaching.rutgers.edu/event/introduction-to-learning-analytics-may-cohort/
CATEGORIES:Workshop
END:VEVENT
BEGIN:VEVENT
DTSTART;TZID=UTC:20250514T103000
DTEND;TZID=UTC:20250514T120000
DTSTAMP:20260425T125117
CREATED:20250313T140753Z
LAST-MODIFIED:20250313T141125Z
UID:2438-1747218600-1747224000@teaching.rutgers.edu
SUMMARY:Data Knights: Advancing Analytics Through Our Collective Strengths
DESCRIPTION:Join the Resources for Student Success department for a discussion based on Amelia Parnell’s book You Are a Data Person: Strategies for Using Analytics on Campus. \nWednesday\, May 14\, 2025 | 10:30 AM – 12:00 PM\nCollege Ave Learning Center\nAcademic Building West 1150 \nRegistration is limited to the first 30 attendees for each session. \nREGISTER HERE
URL:https://teaching.rutgers.edu/event/data-knights-advancing-analytics-through-our-collective-strengths/
LOCATION:Academic Building West 1150\, 15 Seminary Place\, New Brunswick\, NJ\, 08901\, United States
CATEGORIES:Discussion
ORGANIZER;CN="Rutgers Resources for Student Success":MAILTO:success.rutgers.edu
END:VEVENT
END:VCALENDAR