BEGIN:VCALENDAR
VERSION:2.0
PRODID:-//Institute for Teaching, Innovation, &amp; Inclusive Pedagogy - ECPv6.7.0//NONSGML v1.0//EN
CALSCALE:GREGORIAN
METHOD:PUBLISH
X-ORIGINAL-URL:https://teaching.rutgers.edu
X-WR-CALDESC:Events for Institute for Teaching, Innovation, &amp; Inclusive Pedagogy
REFRESH-INTERVAL;VALUE=DURATION:PT1H
X-Robots-Tag:noindex
X-PUBLISHED-TTL:PT1H
BEGIN:VTIMEZONE
TZID:UTC
BEGIN:STANDARD
TZOFFSETFROM:+0000
TZOFFSETTO:+0000
TZNAME:UTC
DTSTART:20250101T000000
END:STANDARD
END:VTIMEZONE
BEGIN:VEVENT
DTSTART;TZID=UTC:20251121T100000
DTEND;TZID=UTC:20251121T100000
DTSTAMP:20260421T121556
CREATED:20251110T201305Z
LAST-MODIFIED:20251110T201321Z
UID:3486-1763719200-1763719200@teaching.rutgers.edu
SUMMARY:Tea & Teaching with Jenevieve DeLosSantos
DESCRIPTION:A conversation with Andrés Mario Zervigón\, Professor in the Department of Art History for a discussion about ways to leverage student usage of generative AI to support their development as writers. Andrés will share with us some strategies he has employed in developing new writing assignments that incorporate generative AI both in the brainstorming and writing processes and across a variety of levels\, from a 400-level capstone experience to a 100-level introductory survey. \nTogether we will discuss his thinking about the potential of AI to help support academic writing skills and ways to discuss the ethics of these tools with students. We welcome all perspectives to join us for this event where we hope to explore the complexities of generative AI and writing through an informal and conversational exchange of ideas. \nREGISTER HERE
URL:https://teaching.rutgers.edu/event/tea-teaching-with-jenevieve-delossantos/
LOCATION:Zoom
CATEGORIES:Learning Community
ORGANIZER;CN="SAS Office of Undergraduate Education":MAILTO:teachinglearning@sas.rutgers.edu
END:VEVENT
END:VCALENDAR