BEGIN:VCALENDAR
VERSION:2.0
PRODID:-//Institute for Teaching, Innovation, &amp; Inclusive Pedagogy - ECPv6.7.0//NONSGML v1.0//EN
CALSCALE:GREGORIAN
METHOD:PUBLISH
X-WR-CALNAME:Institute for Teaching, Innovation, &amp; Inclusive Pedagogy
X-ORIGINAL-URL:https://teaching.rutgers.edu
X-WR-CALDESC:Events for Institute for Teaching, Innovation, &amp; Inclusive Pedagogy
REFRESH-INTERVAL;VALUE=DURATION:PT1H
X-Robots-Tag:noindex
X-PUBLISHED-TTL:PT1H
BEGIN:VTIMEZONE
TZID:UTC
BEGIN:STANDARD
TZOFFSETFROM:+0000
TZOFFSETTO:+0000
TZNAME:UTC
DTSTART:20250101T000000
END:STANDARD
END:VTIMEZONE
BEGIN:VEVENT
DTSTART;VALUE=DATE:20251110
DTEND;VALUE=DATE:20251111
DTSTAMP:20260423T094724
CREATED:20251103T193840Z
LAST-MODIFIED:20251103T193840Z
UID:3452-1762732800-1762819199@teaching.rutgers.edu
SUMMARY:AI in Teaching and Learning at Rutgers: A New Chapter in Higher Education
DESCRIPTION:This is the inaugural event of the University Librarian’s Symposium Series. The intent of the series is to engage the entire Rutgers community on timely topics in higher education\, focusing on a different theme each year. The theme for the 2025–2026 academic year is Artificial Intelligence in Higher Education. \nThe emergence of artificial intelligence (AI) in scholarly communications and many aspects of higher education has raised questions about whether it should be used\, its environmental impact\, and its potential to discourage problem solving and creativity. The reality is that it’s here to stay\, and what’s needed is proactive consideration of both potential benefits and ways to mitigate disruption. \nThe first event of this series will focus on the role of AI in teaching and learning at Rutgers. It will be held on November 10 from 8:30 a.m. to 4 p.m. in the Teleconference Lecture Hall on the fourth floor of Alexander Library. Breakfast\, lunch\, and afternoon refreshments will be provided. \nA recording of the event will be posted on the Rutgers University Libraries website at a later date. \nView the agenda
URL:https://teaching.rutgers.edu/event/ai-in-teaching-and-learning-at-rutgers-a-new-chapter-in-higher-education/
LOCATION:Alexander Library Teleconference/Lecture Hall – TLH (4th floor)
CATEGORIES:Conference,Symposium
END:VEVENT
END:VCALENDAR