BEGIN:VCALENDAR
VERSION:2.0
PRODID:-//Institute for Teaching, Innovation, &amp; Inclusive Pedagogy - ECPv6.7.0//NONSGML v1.0//EN
CALSCALE:GREGORIAN
METHOD:PUBLISH
X-WR-CALNAME:Institute for Teaching, Innovation, &amp; Inclusive Pedagogy
X-ORIGINAL-URL:https://teaching.rutgers.edu
X-WR-CALDESC:Events for Institute for Teaching, Innovation, &amp; Inclusive Pedagogy
REFRESH-INTERVAL;VALUE=DURATION:PT1H
X-Robots-Tag:noindex
X-PUBLISHED-TTL:PT1H
BEGIN:VTIMEZONE
TZID:UTC
BEGIN:STANDARD
TZOFFSETFROM:+0000
TZOFFSETTO:+0000
TZNAME:UTC
DTSTART:20250101T000000
END:STANDARD
END:VTIMEZONE
BEGIN:VEVENT
DTSTART;TZID=UTC:20251003T120000
DTEND;TZID=UTC:20251003T120000
DTSTAMP:20260424T025306
CREATED:20250902T135955Z
LAST-MODIFIED:20250902T160107Z
UID:3279-1759492800-1759492800@teaching.rutgers.edu
SUMMARY:Troubleshooting Workshop on Teaching and Generative AI
DESCRIPTION:Join a virtual “troubleshooting” workshop and discussion on teaching and generative AI. This is a repeat of the September 29th session. \n\nBoth workshops feature Lauren Goodlad\, editor of Critical AI and chair of the Critical AI @ Rutgers initiative\, and Sharon Stoerger\, Asst. Dean for Programs and Assessment in the School of Communication & Information. Topics will include in-class assessment strategies for teaching critical AI literacies\, precluding learning loss\, and maintaining academic integrity\, plus open discussion for troubleshooting and sharing ideas.  \n\nFor registration and additional inquiries\, email: criticalai@sas.rutgers.edu \n\n\nLearn more about the Design Justice Labs pathway to earning a badge in teaching Critical AI literacies through TIIP. The workshop can be applied to competencies 1\, 2\, and 4 for earning the badge. \n\n\nDownload Flyer
URL:https://teaching.rutgers.edu/event/troubleshooting-workshop-on-teaching-and-generative-ai/
CATEGORIES:Workshop
ORGANIZER;CN="Critical AI":MAILTO:criticalai@sas.rutgers.edu
END:VEVENT
BEGIN:VEVENT
DTSTART;TZID=UTC:20251003T120000
DTEND;TZID=UTC:20251003T130000
DTSTAMP:20260424T025306
CREATED:20250820T193348Z
LAST-MODIFIED:20250908T190248Z
UID:3230-1759492800-1759496400@teaching.rutgers.edu
SUMMARY:Developing Teaching and Diversity Statements for Academic Employment [Grad/Postdoc Workshop]
DESCRIPTION:Facilitator: Jamie Kim  \nThis interactive session will help you consider and design your teaching philosophy and diversity statements which are often an integral component of the job application for faculty positions. Please bring a copy of your own drafts (or a general idea of what you might write about) to share during small group discussions as well as a laptop or pen and paper. This session is part of the Improving Your Classroom Skills certificate program for graduate students and postdocs.  \nAudience: Graduate students and/or postdocs (register through the link below or under “Website” at the bottom of this page)  \nREGISTER 
URL:https://teaching.rutgers.edu/event/developing-teaching-and-diversity-statements-for-academic-employment-grad-postdoc-workshop/
LOCATION:Virtual
CATEGORIES:Workshop
END:VEVENT
END:VCALENDAR