BEGIN:VCALENDAR
VERSION:2.0
PRODID:-//Institute for Teaching, Innovation, &amp; Inclusive Pedagogy - ECPv6.7.0//NONSGML v1.0//EN
CALSCALE:GREGORIAN
METHOD:PUBLISH
X-ORIGINAL-URL:https://teaching.rutgers.edu
X-WR-CALDESC:Events for Institute for Teaching, Innovation, &amp; Inclusive Pedagogy
REFRESH-INTERVAL;VALUE=DURATION:PT1H
X-Robots-Tag:noindex
X-PUBLISHED-TTL:PT1H
BEGIN:VTIMEZONE
TZID:UTC
BEGIN:STANDARD
TZOFFSETFROM:+0000
TZOFFSETTO:+0000
TZNAME:UTC
DTSTART:20250101T000000
END:STANDARD
END:VTIMEZONE
BEGIN:VEVENT
DTSTART;TZID=UTC:20251010T120000
DTEND;TZID=UTC:20251010T133000
DTSTAMP:20260421T191212
CREATED:20250825T183812Z
LAST-MODIFIED:20251006T184150Z
UID:3259-1760097600-1760103000@teaching.rutgers.edu
SUMMARY:How to Develop and Communicate Learning Objectives for a Class Session
DESCRIPTION:Are you interested in a career that involves teaching? This session is part of the Biomedical PostDoc Professional Development Days (PD3)\, and it also fulfills the Improving Your Classroom Skills certificate program for graduate students and postdocs. The session is open to all graduate students and postdocs across the New Brunswick/Piscataway community. The workshop will also explore effective strategies for communicating these learning objectives to students in ways that clarify expectations and enhance engagement. Transparent communication about learning goals helps students understand the purpose behind each class activity and fosters a more meaningful learning experience.   \nBring a course syllabus or come with an idea for a course that you hope to teach\, as the session will include interactive activities to apply these strategies in real time.  \nLunch will be served. This session is part of the Biomedical PostDoc Professional Development Days (PD3)\, and it is open to all graduate students and postdocs across the New Brunswick/Piscataway community. \nAudience: Graduate students and/or postdocs (register through the link below or under “Website” at the bottom of this page)  \nREGISTER 
URL:https://teaching.rutgers.edu/event/how-to-develop-and-communicate-learning-objectives-for-a-class-session/
LOCATION:675 Hoes Lane West\, RWJMS Research Tower\, Deans Conference Room 123\, Piscataway (Busch Campus)\, in person
CATEGORIES:Workshop
END:VEVENT
END:VCALENDAR