BEGIN:VCALENDAR
VERSION:2.0
PRODID:-//Institute for Teaching, Innovation, &amp; Inclusive Pedagogy - ECPv6.7.0//NONSGML v1.0//EN
CALSCALE:GREGORIAN
METHOD:PUBLISH
X-ORIGINAL-URL:https://teaching.rutgers.edu
X-WR-CALDESC:Events for Institute for Teaching, Innovation, &amp; Inclusive Pedagogy
REFRESH-INTERVAL;VALUE=DURATION:PT1H
X-Robots-Tag:noindex
X-PUBLISHED-TTL:PT1H
BEGIN:VTIMEZONE
TZID:UTC
BEGIN:STANDARD
TZOFFSETFROM:+0000
TZOFFSETTO:+0000
TZNAME:UTC
DTSTART:20260101T000000
END:STANDARD
END:VTIMEZONE
BEGIN:VEVENT
DTSTART;TZID=UTC:20260129T123000
DTEND;TZID=UTC:20260129T133000
DTSTAMP:20260420T152638
CREATED:20260120T200055Z
LAST-MODIFIED:20260120T200227Z
UID:3786-1769689800-1769693400@teaching.rutgers.edu
SUMMARY:Lecturer Faculty Community – Spring Kickoff
DESCRIPTION:Are you looking to connect with fellow lecturers at Rutgers? Then join the Lecturer Faculty Community\, a supportive\, interdisciplinary space to exchange ideas and discuss effective teaching practices! Throughout the spring semester\, there will be monthly gatherings for which you will be asked to submit topics of interest in advance:  \n\nThursday\, January 29\, 12:30-1:30pm  \n\n\nThursday\, February 5\, 1:00-2:00pm \n\n\nTuesday\, March 3\, 12:30-1:30pm \n\n\nTuesday\, April 14\, 12:30-1:30pm \n\nYou are welcome to join any or all of the gatherings\, as your schedule allows. Whether seeking inspiration\, new strategies\, or a sense of community\, you will find this space a valuable resource for professional growth. \nAudience: Lecturers (register through the link below or under “Website” at the bottom of this page)  \nREGISTER 
URL:https://teaching.rutgers.edu/event/lecturer-faculty-community-spring-kickoff/
LOCATION:Zoom
CATEGORIES:Workshop
ORGANIZER;CN="Institute for Teaching%2C Innovation%2C &amp%3B Inclusive Pedagogy":MAILTO:TeachingInstitute@rutgers.edu
END:VEVENT
END:VCALENDAR