BEGIN:VCALENDAR
VERSION:2.0
PRODID:-//Institute for Teaching, Innovation, &amp; Inclusive Pedagogy - ECPv6.7.0//NONSGML v1.0//EN
CALSCALE:GREGORIAN
METHOD:PUBLISH
X-ORIGINAL-URL:https://teaching.rutgers.edu
X-WR-CALDESC:Events for Institute for Teaching, Innovation, &amp; Inclusive Pedagogy
REFRESH-INTERVAL;VALUE=DURATION:PT1H
X-Robots-Tag:noindex
X-PUBLISHED-TTL:PT1H
BEGIN:VTIMEZONE
TZID:UTC
BEGIN:STANDARD
TZOFFSETFROM:+0000
TZOFFSETTO:+0000
TZNAME:UTC
DTSTART:20250101T000000
END:STANDARD
END:VTIMEZONE
BEGIN:VEVENT
DTSTART;TZID=UTC:20251027T120000
DTEND;TZID=UTC:20251029T130000
DTSTAMP:20260423T165058
CREATED:20250820T193757Z
LAST-MODIFIED:20250915T212703Z
UID:3236-1761566400-1761742800@teaching.rutgers.edu
SUMMARY:AI and Academic Integrity [Grad/Postdoc Workshop]
DESCRIPTION:Facilitators: Clara Civiero\, Gill Woody  \nAs AI tools are becoming more widely available\, both educators and students are faced with new challenges about the ethical use of these tools. What is your role as a TA when faced with these challenges? This workshop will look at how to navigate academic integrity violations and potential misuses\, as well as how to distinguish between acceptable support with this technology and academic dishonesty. This session is part of the Improving Your Classroom Skills certificate program for graduate students and postdocs\, and it also fulfills Competencies 2 of the Teaching and Generative AI Pathways Program.  \nAudience: Graduate students and/or postdocs (register through the link below or under “Website” at the bottom of this page)  \nREGISTER  \n 
URL:https://teaching.rutgers.edu/event/ai-and-academic-integrity-grad-postdoc-workshop/
LOCATION:Virtual
CATEGORIES:Workshop
END:VEVENT
BEGIN:VEVENT
DTSTART;TZID=UTC:20251029T093000
DTEND;TZID=UTC:20251029T103000
DTSTAMP:20260423T165058
CREATED:20250915T210307Z
LAST-MODIFIED:20250915T210548Z
UID:3338-1761730200-1761733800@teaching.rutgers.edu
SUMMARY:Teaching & Learning Community for Graduate Students and Postdocs
DESCRIPTION:The Teaching & Learning Community for Graduate Students and Postdocs is a monthly Zoom-based gathering space where graduate students\, postdocs\, faculty\, and staff engage in conversations about teaching and learning in higher education. Each session is shaped by community members and offers opportunities to discuss pedagogy based on the scholarship of teaching and learning. To join the community\, please fill out this registration form. 
URL:https://teaching.rutgers.edu/event/teaching-learning-community-for-graduate-students-and-postdocs-description/
LOCATION:Zoom
CATEGORIES:Learning Community
ORGANIZER;CN="Institute for Teaching%2C Innovation%2C &amp%3B Inclusive Pedagogy (Graduate Student Teaching Development)":MAILTO:GradTeaching@rutgers.edu
END:VEVENT
END:VCALENDAR