BEGIN:VCALENDAR
VERSION:2.0
PRODID:-//Institute for Teaching, Innovation, &amp; Inclusive Pedagogy - ECPv6.7.0//NONSGML v1.0//EN
CALSCALE:GREGORIAN
METHOD:PUBLISH
X-WR-CALNAME:Institute for Teaching, Innovation, &amp; Inclusive Pedagogy
X-ORIGINAL-URL:https://teaching.rutgers.edu
X-WR-CALDESC:Events for Institute for Teaching, Innovation, &amp; Inclusive Pedagogy
REFRESH-INTERVAL;VALUE=DURATION:PT1H
X-Robots-Tag:noindex
X-PUBLISHED-TTL:PT1H
BEGIN:VTIMEZONE
TZID:UTC
BEGIN:STANDARD
TZOFFSETFROM:+0000
TZOFFSETTO:+0000
TZNAME:UTC
DTSTART:20250101T000000
END:STANDARD
END:VTIMEZONE
BEGIN:VEVENT
DTSTART;TZID=UTC:20251117T160000
DTEND;TZID=UTC:20251117T180000
DTSTAMP:20260420T212953
CREATED:20251110T200956Z
LAST-MODIFIED:20251110T201403Z
UID:3483-1763395200-1763402400@teaching.rutgers.edu
SUMMARY:SAS Teaching Conversation: Writing Assignments in the Age of AI
DESCRIPTION:From humanities papers to STEM lab reports\, student writing assignments are a key way for us to assess student learning. But generative AI tools are rapidly changing the writing landscape. Join us for a panel discussion\, featuring SAS faculty and teaching and learning professionals exploring the use of written assignments in the context of generative AI. \nREGISTER HERE
URL:https://teaching.rutgers.edu/event/sas-teaching-conversation-writing-assignments-in-the-age-of-ai/
LOCATION:Life Sciences Building Atrium (Busch Campus)
CATEGORIES:Learning Community
ORGANIZER;CN="SAS Office of Undergraduate Education":MAILTO:teachinglearning@sas.rutgers.edu
END:VEVENT
END:VCALENDAR