BEGIN:VCALENDAR
VERSION:2.0
PRODID:-//Institute for Teaching, Innovation, &amp; Inclusive Pedagogy - ECPv6.7.0//NONSGML v1.0//EN
CALSCALE:GREGORIAN
METHOD:PUBLISH
X-WR-CALNAME:Institute for Teaching, Innovation, &amp; Inclusive Pedagogy
X-ORIGINAL-URL:https://teaching.rutgers.edu
X-WR-CALDESC:Events for Institute for Teaching, Innovation, &amp; Inclusive Pedagogy
REFRESH-INTERVAL;VALUE=DURATION:PT1H
X-Robots-Tag:noindex
X-PUBLISHED-TTL:PT1H
BEGIN:VTIMEZONE
TZID:UTC
BEGIN:STANDARD
TZOFFSETFROM:+0000
TZOFFSETTO:+0000
TZNAME:UTC
DTSTART:20260101T000000
END:STANDARD
END:VTIMEZONE
BEGIN:VEVENT
DTSTART;TZID=UTC:20260113T120000
DTEND;TZID=UTC:20260113T130000
DTSTAMP:20260422T101524
CREATED:20251209T220109Z
LAST-MODIFIED:20251209T223534Z
UID:3598-1768305600-1768309200@teaching.rutgers.edu
SUMMARY:The AI Card Deck: Designing with Generative AI in Mind
DESCRIPTION:Looking to reimagine your teaching in the age of AI\, but not sure where to start? This hands-on session using the Analog Inspiration Card Deck encourages a more “human-centered” approach to AI. In this one-hour session\, you will explore thought-provoking prompts ranging from care and belonging to critical thinking and friction. These cards are meant to be used for both you and your students with various possibilities for interaction.   \nThis session fulfills Competencies 2 and 3 of the Teaching and Generative AI Pathways Program.  \nREGISTER NOW.
URL:https://teaching.rutgers.edu/event/the-ai-card-deck-designing-with-generative-ai-in-mind/
LOCATION:Seminar Room 444 Career Explorations and Success 106 Somerset Street\, 4th Floor College Avenue Campus
CATEGORIES:Learning Community
ORGANIZER;CN="Institute for Teaching%2C Innovation%2C &amp%3B Inclusive Pedagogy":MAILTO:TeachingInstitute@rutgers.edu
END:VEVENT
END:VCALENDAR