BEGIN:VCALENDAR
VERSION:2.0
PRODID:-//Institute for Teaching, Innovation, &amp; Inclusive Pedagogy - ECPv6.7.0//NONSGML v1.0//EN
CALSCALE:GREGORIAN
METHOD:PUBLISH
X-WR-CALNAME:Institute for Teaching, Innovation, &amp; Inclusive Pedagogy
X-ORIGINAL-URL:https://teaching.rutgers.edu
X-WR-CALDESC:Events for Institute for Teaching, Innovation, &amp; Inclusive Pedagogy
REFRESH-INTERVAL;VALUE=DURATION:PT1H
X-Robots-Tag:noindex
X-PUBLISHED-TTL:PT1H
BEGIN:VTIMEZONE
TZID:UTC
BEGIN:STANDARD
TZOFFSETFROM:+0000
TZOFFSETTO:+0000
TZNAME:UTC
DTSTART:20250101T000000
END:STANDARD
END:VTIMEZONE
BEGIN:VEVENT
DTSTART;TZID=UTC:20251030T150000
DTEND;TZID=UTC:20251030T160000
DTSTAMP:20260422T044149
CREATED:20250929T190142Z
LAST-MODIFIED:20250929T190448Z
UID:3386-1761836400-1761840000@teaching.rutgers.edu
SUMMARY:Fireside Chat: A Conversation with The Opposite of Cheating Authors
DESCRIPTION:In July\, Rutgers instructors and staff came together for weekly conversations on academic integrity in the era of Generative AI. As part of those discussions\, we also explored The Opposite of Cheating by Drs. Bertram Gallant and Rettinger.  Now\, we’re excited to continue the conversation with a special “fireside chat” featuring the authors themselves. They’ll share their perspectives on cheating and Generative AI\, especially in light of how much has changed since the book’s publication. Audience members are encouraged to submit questions in advance and bring their own to the live session.  This session fulfills Competencies 2 and 3 of the Teaching and Generative AI Pathways Program.  \nREGISTER
URL:https://teaching.rutgers.edu/event/fireside-chat-a-conversation-with-the-opposite-of-cheating-authors/
LOCATION:Zoom
CATEGORIES:Learning Community
ORGANIZER;CN="Institute for Teaching%2C Innovation%2C &amp%3B Inclusive Pedagogy":MAILTO:TeachingInstitute@rutgers.edu
END:VEVENT
END:VCALENDAR